BEGIN:VCALENDAR
VERSION:2.0
PRODID:-//デモ情報・反差別イベント掲載｜みんなでつくる連帯カレンダー🌈🍉♾️🏳️‍⚧️♿️☂️ - ECPv6.15.20//NONSGML v1.0//EN
CALSCALE:GREGORIAN
METHOD:PUBLISH
X-WR-CALNAME:デモ情報・反差別イベント掲載｜みんなでつくる連帯カレンダー🌈🍉♾️🏳️‍⚧️♿️☂️
X-ORIGINAL-URL:https://rentaicalender.com
X-WR-CALDESC:デモ情報・反差別イベント掲載｜みんなでつくる連帯カレンダー🌈🍉♾️🏳️‍⚧️♿️☂️ のイベント
REFRESH-INTERVAL;VALUE=DURATION:PT1H
X-Robots-Tag:noindex
X-PUBLISHED-TTL:PT1H
BEGIN:VTIMEZONE
TZID:Asia/Tokyo
BEGIN:STANDARD
TZOFFSETFROM:+0900
TZOFFSETTO:+0900
TZNAME:JST
DTSTART:20250101T000000
END:STANDARD
END:VTIMEZONE
BEGIN:VEVENT
DTSTART;TZID=Asia/Tokyo:20260425T190000
DTEND;TZID=Asia/Tokyo:20260425T203000
DTSTAMP:20260425T051939
CREATED:20260420T095820Z
LAST-MODIFIED:20260420T095820Z
UID:8341-1777143600-1777149000@rentaicalender.com
SUMMARY:#入管法改悪反対アクション＠新宿南口（東京）
DESCRIPTION:1【主催】\n#入管法改悪反対アクション＠新宿南口\n\n2【目的】\n入管法改悪に反対します。みんなで生きるためのアクションです。\n\n3【形式】\n街頭ではスタンディング・マイクスピーチなど。SNSではタグデモなど。\n\n4【参加者がすること】\n・スタンディングをしても座って参加してもOK\n・スピーチをしてもしなくてもOK\n・プラカードを持っても持たなくてもOK（プラカードは貸出あります）\n・お茶を飲んでも飲まなくてもOK\n・近くの人と話しても話さなくてもOK\n・その場にいるだけでもOK。その場にいなくてもOK\n\n5【会場】\n・JR新宿駅南口を出てすぐのところ（路上アクション）\n・ご自宅などそれぞれの場所（タグデモほか）\n\n6【出入り】\n・途中参加・途中離脱OK\n・1～2分のご参加も歓迎です\n\n7【音環境】\nスピーカーを4台使います。映画館ほどではありません。それでも、じゅうぶん大きな音が出ます。気になる方は耳栓やイヤーマフを使ってください。\n\n8【アクセシビリティ】\n・UDトークあり。よかったら一緒に字幕を作ってください。\n・音声も配信します。\n\nUDトークと音声配信のURLはアクション当日にBlueskyかマストドンのアカウントでご確認ください\nBluesky: https://bsky.app/profile/shinjuku-mimami.bsky.social\nMasutodon: https://toot.blue/@msakuma\n\n9【グラウンドルール】\n当アクションでは、差別的な発言や行為、ハラスメントなど、他者の尊厳を傷付ける言動を禁止します。そうした行為を受けた場合・見かけた場合は主催者にお伝えください。誰もが安心して参加できるアクションを目指しています。ご協力よろしくお願いします。
URL:https://rentaicalender.com/event/%e5%85%a5%e7%ae%a1%e6%b3%95%e6%94%b9%e6%82%aa%e5%8f%8d%e5%af%be%e3%82%a2%e3%82%af%e3%82%b7%e3%83%a7%e3%83%b3%ef%bc%a0%e6%96%b0%e5%ae%bf%e5%8d%97%e5%8f%a3%ef%bc%88%e6%9d%b1%e4%ba%ac%ef%bc%89-3/
CATEGORIES:難民・移民,人種差別・排外主義
ATTACH;FMTTYPE=image/png:https://rentaicalender.com/wp-content/uploads/2026/04/20260425-2.png
END:VEVENT
BEGIN:VEVENT
DTSTART;TZID=Asia/Tokyo:20260426T153000
DTEND;TZID=Asia/Tokyo:20260426T170000
DTSTAMP:20260425T051939
CREATED:20260420T095759Z
LAST-MODIFIED:20260420T095759Z
UID:8322-1777217400-1777222800@rentaicalender.com
SUMMARY:4.26音楽集会+デモ行進〜省略〜（大阪）
DESCRIPTION:1【主催】\n4.26demo 実行委員会\n（連絡先 stophaigai@gmail.com）\n​2【目的】\n「排外主義（ゼノフォビア）への反対」と「連帯（ソリダリティ）」を掲げる平和行進です。入管法関連の手数料値上げ、帰化・永住要件の厳格化、不動産取得規制の検討など、現在の政策における排外的な動きに抗議し、分断を越えてつながることを目的としています。\n​3【形式】\n集会および デモ行進\n​4【参加者がすること】\n​15:30〜： 中之島公園での音楽集会に参加し、音楽やスピーチを聴く。（いるだけでOK）\n​16:30〜： 梅田方面へ向けてデモ行進（基本的に徒歩で移動）。\n​到着後： 市民連合主催の「ペンライト集会」へ合流・参加可能。\n​5【会場】\n​集合場所：中之島公園 女性像前（「緑の賛歌」〒530-0005 大阪府大阪市北区中之島１丁目）\nデモ​行進ルート： 中之島公園から梅田方面まで。\n​6【出入り】\n​途中参加・退出OK： デモの性質上、16:30には行進が開始されるため、集会から参加するのがスムーズです。\n​デモ終了後はそのままペンライト集会に接続する流れとなっています。\n​7【音環境】\n拡声器・音楽あり\n​8【アクセシビリティ】\n【アクセシビリティ】\n​UDトーク（文字通訳、多言語通訳）あり\n手話通訳は交渉中\n​筆談あり\n​車椅子でアクセスできます。\nツイキャスによる配信を行います。 \n​9【グラウンドルール】\nあり（詳細はのちほど公開します）
URL:https://rentaicalender.com/event/4-26%e9%9f%b3%e6%a5%bd%e9%9b%86%e4%bc%9a%e3%83%87%e3%83%a2%e8%a1%8c%e9%80%b2%e3%80%9c%e7%9c%81%e7%95%a5%e3%80%9c%ef%bc%88%e5%a4%a7%e9%98%aa%ef%bc%89/
CATEGORIES:人種差別・排外主義
ATTACH;FMTTYPE=image/jpeg:https://rentaicalender.com/wp-content/uploads/2026/04/1775897685119.jpg
END:VEVENT
BEGIN:VEVENT
DTSTART;TZID=Asia/Tokyo:20260516T150000
DTEND;TZID=Asia/Tokyo:20260516T180000
DTSTAMP:20260425T051939
CREATED:20260413T122413Z
LAST-MODIFIED:20260414T012811Z
UID:7898-1778943600-1778954400@rentaicalender.com
SUMMARY:沖縄「復帰」54年を問うデモ　米軍普天間基地 即時全面返還せよ（原宿）
DESCRIPTION:沖縄・一坪反戦地主会関東ブロックは、今年も〈沖縄「復帰」を問うデモ〉を呼びかけます。ぜひご参加ください。 \n沖縄「復帰」54年を問うデモ\n米軍普天間基地 即時全面返還せよ \n🔹2026年5月16日(土) アピール開始 午後3時／デモ出発 午後3時45分\n🔹神宮橋周辺 (JR原宿駅 表参道改札 出てすぐ) \n【主催】沖縄・一坪反戦地主会関東ブロック\n【目的】沖縄「復帰」54年となる5月に、普天間基地の即時全面返還を求めてデモをおこないます\n【形式】デモ (デモ前にアピールあり)\n【参加者がすること】歩く／話を聞く\n【会場】2026年5月16日(土) アピール開始午後3時／デモ出発午後3時45分 神宮橋周辺集合 (JR原宿駅表参道改札出てすぐ)\n【出入り】途中参加OK・途中離脱OK\n【音環境】拡声器あり\n【アクセシビリティ】手話・UDトークなし／筆談は相談可能／車椅子アクセス不明\n【グラウンドルール】差別的な言動はNGです
URL:https://rentaicalender.com/event/%e6%b2%96%e7%b8%84%e3%80%8c%e5%be%a9%e5%b8%b0%e3%80%8d54%e5%b9%b4%e3%82%92%e5%95%8f%e3%81%86%e3%83%87%e3%83%a2%e3%80%80%e7%b1%b3%e8%bb%8d%e6%99%ae%e5%a4%a9%e9%96%93%e5%9f%ba%e5%9c%b0-%e5%8d%b3/
CATEGORIES:反戦・国際連帯,人種差別・排外主義
ATTACH;FMTTYPE=image/jpeg:https://rentaicalender.com/wp-content/uploads/2026/04/20260516デモ講演チラシ_OL.jpg
END:VEVENT
END:VCALENDAR